BEGIN:VCALENDAR
VERSION:2.0
PRODID:-//Kreisgymnasium Heinsberg - ECPv4.8.2//NONSGML v1.0//EN
CALSCALE:GREGORIAN
METHOD:PUBLISH
X-WR-CALNAME:Kreisgymnasium Heinsberg
X-ORIGINAL-URL:https://www.kreisgymnasium-heinsberg.de
X-WR-CALDESC:Veranstaltungen für Kreisgymnasium Heinsberg
BEGIN:VEVENT
DTSTART;TZID=Europe/Berlin:20240508T080000
DTEND;TZID=Europe/Berlin:20240524T170000
DTSTAMP:20260421T081341
CREATED:20230810T104045Z
LAST-MODIFIED:20230810T104045Z
UID:13348-1715155200-1716570000@www.kreisgymnasium-heinsberg.de
SUMMARY:Q2 Nachschriften 1.-3. Fach bis 24.05.
DESCRIPTION:
URL:https://www.kreisgymnasium-heinsberg.de/termin/q2-nachschriften-1-3-fach-bis-24-05/
CATEGORIES:Oberstufe
END:VEVENT
END:VCALENDAR